BEGIN:VCALENDAR
VERSION:2.0
PRODID:-//New Basin Blues Running Club - ECPv6.6.4.2//NONSGML v1.0//EN
CALSCALE:GREGORIAN
METHOD:PUBLISH
X-WR-CALNAME:New Basin Blues Running Club
X-ORIGINAL-URL:https://www.newbasinblues.com
X-WR-CALDESC:Events for New Basin Blues Running Club
REFRESH-INTERVAL;VALUE=DURATION:PT1H
X-Robots-Tag:noindex
X-PUBLISHED-TTL:PT1H
BEGIN:VTIMEZONE
TZID:America/Los_Angeles
BEGIN:DAYLIGHT
TZOFFSETFROM:-0800
TZOFFSETTO:-0700
TZNAME:PDT
DTSTART:20260308T100000
END:DAYLIGHT
BEGIN:STANDARD
TZOFFSETFROM:-0700
TZOFFSETTO:-0800
TZNAME:PST
DTSTART:20261101T090000
END:STANDARD
END:VTIMEZONE
BEGIN:VEVENT
DTSTART;TZID=America/Los_Angeles:20260312T183000
DTEND;TZID=America/Los_Angeles:20260312T183000
DTSTAMP:20260420T053824
CREATED:20260218T012224Z
LAST-MODIFIED:20260218T012224Z
UID:6918-1773340200-1773340200@www.newbasinblues.com
SUMMARY:Basin Tempo Run
DESCRIPTION:Google Directions \nThere are numerous routes available\, ranging from 3 to 7. \nAs always\, we’ll chat and match up by our desired speed and distance. \nRehydrating drinks after! \nJoin the WhatsApp group for Tempo runs by clicking THIS LINK. \n \n  \n 
URL:https://www.newbasinblues.com/event/basin-tempo-run-98/
LOCATION:Encino Golf Course\, 16821 Burbank Blvd\, Encino\, CA\, 91436\, United States
ATTACH;FMTTYPE=image/png:https://www.newbasinblues.com/wp-content/uploads/2026/02/Basin-Tempo-Run-Post-Daylight-Savings.png
END:VEVENT
END:VCALENDAR