BEGIN:VCALENDAR
VERSION:2.0
PRODID:-//New Basin Blues Running Club - ECPv6.6.4.2//NONSGML v1.0//EN
CALSCALE:GREGORIAN
METHOD:PUBLISH
X-WR-CALNAME:New Basin Blues Running Club
X-ORIGINAL-URL:https://www.newbasinblues.com
X-WR-CALDESC:Events for New Basin Blues Running Club
REFRESH-INTERVAL;VALUE=DURATION:PT1H
X-Robots-Tag:noindex
X-PUBLISHED-TTL:PT1H
BEGIN:VTIMEZONE
TZID:America/Los_Angeles
BEGIN:DAYLIGHT
TZOFFSETFROM:-0800
TZOFFSETTO:-0700
TZNAME:PDT
DTSTART:20250309T100000
END:DAYLIGHT
BEGIN:STANDARD
TZOFFSETFROM:-0700
TZOFFSETTO:-0800
TZNAME:PST
DTSTART:20251102T090000
END:STANDARD
END:VTIMEZONE
BEGIN:VEVENT
DTSTART;TZID=America/Los_Angeles:20250406T070000
DTEND;TZID=America/Los_Angeles:20250406T070000
DTSTAMP:20260421T025014
CREATED:20250326T205232Z
LAST-MODIFIED:20250404T050420Z
UID:6086-1743922800-1743922800@www.newbasinblues.com
SUMMARY:Victory Trailhead Ahmanson Ranch
DESCRIPTION:Victory | Upper Las Virgenes Trailhead\nVictory Blvd. and Gilmore Street\nWest Hills\, CA 91307 \nFrom Ventura Fwy (101)\, exit Valley Circle Blvd. Go north 2 miles and turn left on Victory Blvd \nPark free along either side of Victory below Gilmore St or up in the pay lot (put $3 cash/check in the envelope) \n \nDRIVING DIRECTIONS \nGet to the starting point by going under the Victory Trailhead sign and through the paid parking lot to the picnic tables past the porta potties. \nRoute Choices  \n6K: (3.8 mi) 465 Δ\n12K: (7.5 mi) 912 Δ \nFor more info about the Las Virgenes Canyon 6 to 84K Race Choices on April 26th: CLICK HERE
URL:https://www.newbasinblues.com/event/victory-las-virgenes-ultras-anytime-preview/
LOCATION:Victory Trailhead Updated\, Victory and Gilmore\, West Hills\, CA\, 91307\, United States
ATTACH;FMTTYPE=image/png:https://www.newbasinblues.com/wp-content/uploads/2025/03/Victory-Trailhead-Anytime-Runners-Preview-Cover.png
END:VEVENT
END:VCALENDAR